BEGIN:VCALENDAR
VERSION:2.0
PRODID:-//Entropy for Life - Giacomo Moro Mauretto - ECPv6.15.20//NONSGML v1.0//EN
CALSCALE:GREGORIAN
METHOD:PUBLISH
X-WR-CALNAME:Entropy for Life - Giacomo Moro Mauretto
X-ORIGINAL-URL:https://entropyforlife.it
X-WR-CALDESC:Eventi per Entropy for Life - Giacomo Moro Mauretto
REFRESH-INTERVAL;VALUE=DURATION:PT1H
X-Robots-Tag:noindex
X-PUBLISHED-TTL:PT1H
BEGIN:VTIMEZONE
TZID:Europe/Rome
BEGIN:DAYLIGHT
TZOFFSETFROM:+0100
TZOFFSETTO:+0200
TZNAME:CEST
DTSTART:20250330T010000
END:DAYLIGHT
BEGIN:STANDARD
TZOFFSETFROM:+0200
TZOFFSETTO:+0100
TZNAME:CET
DTSTART:20251026T010000
END:STANDARD
BEGIN:DAYLIGHT
TZOFFSETFROM:+0100
TZOFFSETTO:+0200
TZNAME:CEST
DTSTART:20260329T010000
END:DAYLIGHT
BEGIN:STANDARD
TZOFFSETFROM:+0200
TZOFFSETTO:+0100
TZNAME:CET
DTSTART:20261025T010000
END:STANDARD
BEGIN:DAYLIGHT
TZOFFSETFROM:+0100
TZOFFSETTO:+0200
TZNAME:CEST
DTSTART:20270328T010000
END:DAYLIGHT
BEGIN:STANDARD
TZOFFSETFROM:+0200
TZOFFSETTO:+0100
TZNAME:CET
DTSTART:20271031T010000
END:STANDARD
END:VTIMEZONE
BEGIN:VEVENT
DTSTART;TZID=Europe/Rome:20260417T173000
DTEND;TZID=Europe/Rome:20260417T173000
DTSTAMP:20260420T184510
CREATED:20260404T035208Z
LAST-MODIFIED:20260404T035208Z
UID:2539-1776447000-1776447000@entropyforlife.it
SUMMARY:Le nostre specie a rischio estinzione – MareDireFare Festival\, Trieste
DESCRIPTION:Venerdì 17 aprile sarò a Trieste per partecipare al festival dell’Oceano MareDireFare. \nAlle ore 17:30\, presso il Cinema Ariston\, terrò un intervento intitolato “Le nostre specie a rischio estinzione” insieme a Cosimo Solidoro e Franco Coren dell’OGS\, e Maurizio Spoto dell’Area Marina Protetta di Miramare. Insieme\, guideremo il pubblico alla scoperta degli animali del Mediterraneo che oggi sono più minacciati. \nA seguire\, ci sarà la proiezione speciale del documentario del National Geographic “I Segreti dell’Oceano con David Attenborough”. \nL’ingresso è libero fino a esaurimento posti. Vi aspetto per parlare di mare e conservazione! \nInfo e programma completo: https://www.maredirefare.it/
URL:https://entropyforlife.it/evento/le-nostre-specie-a-rischio-estinzione-maredirefare-festival-trieste/
LOCATION:Cinema Ariston\, Trieste\, Viale Romolo Gessi\, 14\, TS\, 34123
ATTACH;FMTTYPE=image/jpeg:https://entropyforlife.it/wp-content/uploads/2024/10/DSC01588-scaled.webp
END:VEVENT
BEGIN:VEVENT
DTSTART;TZID=Europe/Rome:20260413T193000
DTEND;TZID=Europe/Rome:20260413T193000
DTSTAMP:20260420T184510
CREATED:20260317T160702Z
LAST-MODIFIED:20260317T160702Z
UID:2531-1776108600-1776108600@entropyforlife.it
SUMMARY:La storia genetica degli italiani – Incontro al Co.Scienza Festival\, Trento
DESCRIPTION:Lunedì 13 aprile sarò a Trento\, ospite del Co.Scienza Festival\, con un talk intitolato “La storia genetica degli italiani”. \nNegli ultimi decenni l’analisi del DNA antico e moderno ci ha svelato che la popolazione italiana è il risultato di un’affascinante miscela biologica. Incrociando dati genetici e archeologici\, cercheremo di ricostruire la nostra storia: scopriremo eredità genetiche appartenenti a gruppi umani poco noti e analizzeremo l’impatto di eventi storici come l’Impero Romano\, l’arrivo dei Longobardi e gli insediamenti dei Greci. \nL’incontro si terrà alle 19:30 presso l’Auditorium del Palazzo Prodi (Dipartimento di Lettere). \nPartecipazione: L’evento richiede la prenotazione.\nInfo e programma completo: https://www.coscienzafestival.com/programma2026
URL:https://entropyforlife.it/evento/la-storia-genetica-degli-italiani-incontro-al-co-scienza-festival-trento/
LOCATION:Palazzo Prodi\, Trento\, Via Tommaso Gar\, 14\, TN\, 38122
ATTACH;FMTTYPE=image/jpeg:https://entropyforlife.it/wp-content/uploads/2024/10/DSC01588-scaled.webp
END:VEVENT
BEGIN:VEVENT
DTSTART;TZID=Europe/Rome:20260328T140000
DTEND;TZID=Europe/Rome:20260328T140000
DTSTAMP:20260420T184510
CREATED:20260316T211243Z
LAST-MODIFIED:20260316T211243Z
UID:2528-1774706400-1774706400@entropyforlife.it
SUMMARY:Il cruciale valore ecologico del bosco – Convegno a Piovà Massaia
DESCRIPTION:Sabato 28 marzo 2026 sarò a Piovà Massaia (AT) per partecipare a un importante convegno dal titolo “Il cruciale valore ecologico del bosco”. \nL’incontro\, che si terrà al PalaMenta in piazza San Martino dalle 9:00 alle 18:00\, tratterà la conservazione integrale degli ecosistemi forestali di qualità. La giornata vedrà la partecipazione di numerosi esperti\, docenti e rappresentanti di associazioni ambientaliste. \nIl mio intervento\, intitolato “Sulla concretezza ambientale”\, è previsto durante la sessione pomeridiana (che avrà inizio alle ore 14:00). Sarà un’ottima occasione per parlare di sostenibilità basata sui dati e capire come orientare le nostre azioni in modo davvero utile. \nL’ingresso è libero. Vi aspetto!
URL:https://entropyforlife.it/evento/il-cruciale-valore-ecologico-del-bosco-convegno-a-piova-massaia/
LOCATION:PalaMenta\, Piovà Massaia\, piazza San Martino\, Piovà Massaia\, AT\, 14026
ATTACH;FMTTYPE=image/jpeg:https://entropyforlife.it/wp-content/uploads/2024/10/DSC01588-scaled.webp
END:VEVENT
END:VCALENDAR