BEGIN:VCALENDAR
VERSION:2.0
PRODID:-//Entropy for Life - Giacomo Moro Mauretto - ECPv6.15.20//NONSGML v1.0//EN
CALSCALE:GREGORIAN
METHOD:PUBLISH
X-WR-CALNAME:Entropy for Life - Giacomo Moro Mauretto
X-ORIGINAL-URL:https://entropyforlife.it
X-WR-CALDESC:Eventi per Entropy for Life - Giacomo Moro Mauretto
REFRESH-INTERVAL;VALUE=DURATION:PT1H
X-Robots-Tag:noindex
X-PUBLISHED-TTL:PT1H
BEGIN:VTIMEZONE
TZID:Europe/Rome
BEGIN:DAYLIGHT
TZOFFSETFROM:+0100
TZOFFSETTO:+0200
TZNAME:CEST
DTSTART:20250330T010000
END:DAYLIGHT
BEGIN:STANDARD
TZOFFSETFROM:+0200
TZOFFSETTO:+0100
TZNAME:CET
DTSTART:20251026T010000
END:STANDARD
BEGIN:DAYLIGHT
TZOFFSETFROM:+0100
TZOFFSETTO:+0200
TZNAME:CEST
DTSTART:20260329T010000
END:DAYLIGHT
BEGIN:STANDARD
TZOFFSETFROM:+0200
TZOFFSETTO:+0100
TZNAME:CET
DTSTART:20261025T010000
END:STANDARD
BEGIN:DAYLIGHT
TZOFFSETFROM:+0100
TZOFFSETTO:+0200
TZNAME:CEST
DTSTART:20270328T010000
END:DAYLIGHT
BEGIN:STANDARD
TZOFFSETFROM:+0200
TZOFFSETTO:+0100
TZNAME:CET
DTSTART:20271031T010000
END:STANDARD
END:VTIMEZONE
BEGIN:VEVENT
DTSTART;TZID=Europe/Rome:20260417T173000
DTEND;TZID=Europe/Rome:20260417T173000
DTSTAMP:20260420T184444
CREATED:20260404T035208Z
LAST-MODIFIED:20260404T035208Z
UID:2539-1776447000-1776447000@entropyforlife.it
SUMMARY:Le nostre specie a rischio estinzione – MareDireFare Festival\, Trieste
DESCRIPTION:Venerdì 17 aprile sarò a Trieste per partecipare al festival dell’Oceano MareDireFare. \nAlle ore 17:30\, presso il Cinema Ariston\, terrò un intervento intitolato “Le nostre specie a rischio estinzione” insieme a Cosimo Solidoro e Franco Coren dell’OGS\, e Maurizio Spoto dell’Area Marina Protetta di Miramare. Insieme\, guideremo il pubblico alla scoperta degli animali del Mediterraneo che oggi sono più minacciati. \nA seguire\, ci sarà la proiezione speciale del documentario del National Geographic “I Segreti dell’Oceano con David Attenborough”. \nL’ingresso è libero fino a esaurimento posti. Vi aspetto per parlare di mare e conservazione! \nInfo e programma completo: https://www.maredirefare.it/
URL:https://entropyforlife.it/evento/le-nostre-specie-a-rischio-estinzione-maredirefare-festival-trieste/
LOCATION:Cinema Ariston\, Trieste\, Viale Romolo Gessi\, 14\, TS\, 34123
ATTACH;FMTTYPE=image/jpeg:https://entropyforlife.it/wp-content/uploads/2024/10/DSC01588-scaled.webp
END:VEVENT
END:VCALENDAR